BEGIN:VCALENDAR
VERSION:2.0
PRODID:GlueUp
CALSCALE:GREGORIAN
BEGIN:VTIMEZONE
TZID:UTC
BEGIN:STANDARD
DTSTART:19700101T000000
TZOFFSETFROM:+0000
TZOFFSETTO:+0000
TZNAME:UTC
END:STANDARD
END:VTIMEZONE
BEGIN:VEVENT
TZ:+00
ORGANIZER;CN=Климас Ольга:MAILTO:assist@rgud.ru
UID:4947-1777117885@https://rgud.glueup.ru
DTSTAMP:20260425T115125Z
DTSTART:20250701T073000Z
DTEND:20250701T100000Z
SUMMARY:Страхование апарт-отелей: максимум выгоды за минимум страховой премии.
DESCRIPTION:"Страхование апарт-отелей: максимум выгоды за минимум страховой премии." организовано "Российская гильдия управляющих и девелоперов"\n\nИюл 1 2025 (10:30 - 13:00)(GMT+3)\n\nДля получения дополнительной информации нажмите здесь: https://rgud.glueup.ru/my/events/4947
LOCATION:Санкт-Петербург, ул. Салова, 61 - Апарт-комплекс VALO
BEGIN:VALARM
TRIGGER:-PT48H
REPEAT:4
DURATION:PT30M
ACTION:DISPLAY
END:VALARM
END:VEVENT
END:VCALENDAR