BEGIN:VCALENDAR
VERSION:2.0
PRODID:GlueUp
CALSCALE:GREGORIAN
BEGIN:VTIMEZONE
TZID:UTC
BEGIN:STANDARD
DTSTART:19700101T000000
TZOFFSETFROM:+0000
TZOFFSETTO:+0000
TZNAME:UTC
END:STANDARD
END:VTIMEZONE
BEGIN:VEVENT
TZ:+00
ORGANIZER;CN=Климас Ольга:MAILTO:assist@rgud.ru
UID:4932-1776987070@https://rgud.glueup.ru
DTSTAMP:20260423T233110Z
DTSTART:20250604T080000Z
DTEND:20250604T093000Z
SUMMARY:Онлайн-семинар «Зоны с особыми условиями использования территорий»
DESCRIPTION:"Онлайн-семинар «Зоны с особыми условиями использования территорий»" организовано "Российская гильдия управляющих и девелоперов"\n\nИюня 4 2025\n11:00 AM - 12:30 PM(GMT+3)\n\nДля получения дополнительной информации и для участия в мероприятии онлайн, нажмите здесь: \n\nEvent Website: https://rgud.glueup.ru/my/events/4932\n\nEvent Link: https://us06web.zoom.us/j/87218691265?pwd=ZgXbVzmNwqUENG9kaeii4nux1xeOxe.1
LOCATION:https://us06web.zoom.us/j/87218691265?pwd=ZgXbVzmNwqUENG9kaeii4nux1xeOxe.1
BEGIN:VALARM
TRIGGER:-PT1H
REPEAT:4
DURATION:PT15M
ACTION:DISPLAY
END:VALARM
END:VEVENT
END:VCALENDAR