BEGIN:VCALENDAR
VERSION:2.0
PRODID:GlueUp
CALSCALE:GREGORIAN
BEGIN:VTIMEZONE
TZID:UTC
BEGIN:STANDARD
DTSTART:19700101T000000
TZOFFSETFROM:+0000
TZOFFSETTO:+0000
TZNAME:UTC
END:STANDARD
END:VTIMEZONE
BEGIN:VEVENT
TZ:+00
ORGANIZER;CN=Черейская Наталия:MAILTO:razvitie@rgud.ru
UID:4985-1777121775@https://rgud.glueup.ru
DTSTAMP:20260425T125615Z
DTSTART:20250729T073000Z
DTEND:20250729T100000Z
SUMMARY:МАФ как искусство
DESCRIPTION:"МАФ как искусство" организовано "Российская гильдия управляющих и девелоперов"\n\nИюл 29 2025 (10:30 - 13:00)(GMT+3)\n\nДля получения дополнительной информации нажмите здесь: https://rgud.glueup.ru/my/events/4985
LOCATION:Санкт-Петербург, Измайловский бульвар, дом 1, корпус 2, строение 1 - Апарт-отель WELL
BEGIN:VALARM
TRIGGER:-PT48H
REPEAT:4
DURATION:PT30M
ACTION:DISPLAY
END:VALARM
END:VEVENT
END:VCALENDAR