BEGIN:VCALENDAR
VERSION:2.0
PRODID:GlueUp
CALSCALE:GREGORIAN
BEGIN:VTIMEZONE
TZID:UTC
BEGIN:STANDARD
DTSTART:19700101T000000
TZOFFSETFROM:+0000
TZOFFSETTO:+0000
TZNAME:UTC
END:STANDARD
END:VTIMEZONE
BEGIN:VEVENT
TZ:+00
ORGANIZER;CN=Черейская Наталия:MAILTO:razvitie@rgud.ru
UID:5346-1776656947@https://rgud.glueup.ru
DTSTAMP:20260420T034907Z
DTSTART:20260424T070000Z
DTEND:20260424T100000Z
SUMMARY:Дискуссия «МАФ как искусство»
DESCRIPTION:"Дискуссия «МАФ как искусство»" организовано "Российская гильдия управляющих и девелоперов"\n\nАпр 24 2026 (10:00 - 13:00)(GMT+3)\n\nДля получения дополнительной информации нажмите здесь: https://rgud.glueup.ru/my/events/5346
LOCATION:Садовническая наб., 75, подъезд F2 - Москва
BEGIN:VALARM
TRIGGER:-PT48H
REPEAT:4
DURATION:PT30M
ACTION:DISPLAY
END:VALARM
END:VEVENT
END:VCALENDAR