BEGIN:VCALENDAR
VERSION:2.0
PRODID:GlueUp
CALSCALE:GREGORIAN
BEGIN:VTIMEZONE
TZID:UTC
BEGIN:STANDARD
DTSTART:19700101T000000
TZOFFSETFROM:+0000
TZOFFSETTO:+0000
TZNAME:UTC
END:STANDARD
END:VTIMEZONE
BEGIN:VEVENT
TZ:+00
ORGANIZER;CN=Черейская Наталия:MAILTO:razvitie@rgud.ru
UID:5253-1777116863@https://rgud.glueup.ru
DTSTAMP:20260425T113423Z
DTSTART:20260129T080000Z
DTEND:20260129T100000Z
SUMMARY:ГУД-ЭКСПЕРТИЗА: Отель. Вызовы 2026
DESCRIPTION:"ГУД-ЭКСПЕРТИЗА: Отель. Вызовы 2026" организовано "Российская гильдия управляющих и девелоперов"\n\nЯнв 29 2026 (11:00 - 13:00)(GMT+3)\n\nДля получения дополнительной информации нажмите здесь: https://rgud.glueup.ru/my/events/5253
LOCATION:Санкт-Петербург, проспект Энергетиков, дом 2, корпус 2 - стр. 1 (вход в отель «25/7 Заневский»)
BEGIN:VALARM
TRIGGER:-PT48H
REPEAT:4
DURATION:PT30M
ACTION:DISPLAY
END:VALARM
END:VEVENT
END:VCALENDAR