BEGIN:VCALENDAR
VERSION:2.0
PRODID:GlueUp
CALSCALE:GREGORIAN
BEGIN:VTIMEZONE
TZID:UTC
BEGIN:STANDARD
DTSTART:19700101T000000
TZOFFSETFROM:+0000
TZOFFSETTO:+0000
TZNAME:UTC
END:STANDARD
END:VTIMEZONE
BEGIN:VEVENT
TZ:+00
ORGANIZER;CN=Черейская Наталия Николаевна:MAILTO:razvitie@rgud.ru
UID:4996-1777117023@https://rgud.glueup.ru
DTSTAMP:20260425T113703Z
DTSTART:20250821T060000Z
DTEND:20250822T160000Z
SUMMARY:II Всероссийский молодежный форум «Молодежь и городская среда»
DESCRIPTION:"II Всероссийский молодежный форум «Молодежь и городская среда»" организовано "Российская гильдия управляющих и девелоперов"\n\nАвг 21 - 22, 2025(GMT+3)\n\nДля получения дополнительной информации нажмите здесь: https://rgud.glueup.ru/my/events/4996
LOCATION:
BEGIN:VALARM
TRIGGER:-PT48H
REPEAT:4
DURATION:PT30M
ACTION:DISPLAY
END:VALARM
END:VEVENT
END:VCALENDAR